BEGIN:VCALENDAR
VERSION:2.0
PRODID:-//L&#039;Improtant 74 - ECPv6.15.20//NONSGML v1.0//EN
CALSCALE:GREGORIAN
METHOD:PUBLISH
X-ORIGINAL-URL:https://limprotant.com
X-WR-CALDESC:Évènements pour L&#039;Improtant 74
REFRESH-INTERVAL;VALUE=DURATION:PT1H
X-Robots-Tag:noindex
X-PUBLISHED-TTL:PT1H
BEGIN:VTIMEZONE
TZID:Europe/Helsinki
BEGIN:DAYLIGHT
TZOFFSETFROM:+0200
TZOFFSETTO:+0300
TZNAME:EEST
DTSTART:20230326T010000
END:DAYLIGHT
BEGIN:STANDARD
TZOFFSETFROM:+0300
TZOFFSETTO:+0200
TZNAME:EET
DTSTART:20231029T010000
END:STANDARD
BEGIN:DAYLIGHT
TZOFFSETFROM:+0200
TZOFFSETTO:+0300
TZNAME:EEST
DTSTART:20240331T010000
END:DAYLIGHT
BEGIN:STANDARD
TZOFFSETFROM:+0300
TZOFFSETTO:+0200
TZNAME:EET
DTSTART:20241027T010000
END:STANDARD
BEGIN:DAYLIGHT
TZOFFSETFROM:+0200
TZOFFSETTO:+0300
TZNAME:EEST
DTSTART:20250330T010000
END:DAYLIGHT
BEGIN:STANDARD
TZOFFSETFROM:+0300
TZOFFSETTO:+0200
TZNAME:EET
DTSTART:20251026T010000
END:STANDARD
END:VTIMEZONE
BEGIN:VEVENT
DTSTART;TZID=Europe/Helsinki:20240309T200000
DTEND;TZID=Europe/Helsinki:20240309T220000
DTSTAMP:20260420T211809
CREATED:20230807T151625Z
LAST-MODIFIED:20240214T151110Z
UID:463-1710014400-1710021600@limprotant.com
SUMMARY:Duel au sommet : Match d'improvisation théâtrale L'Improtant vs All-Star #1
DESCRIPTION:🌟 Plongez au cœur de l’improvisation théâtrale avec le spectacle incontournable organisé par la chorale CHANTE FIER de Thônes.  \nPréparez-vous à un affrontement épique lors de ce match d’improvisation théâtrale\, où L’IMPROTANT se mesure à l’ÉLITE ALPINE\, une équipe exceptionnelle composée des meilleurs improvisateurs des montagnes. Une soirée de rires\, de rebondissements et de créativité débridée vous attend ! \n📅 Date et heure : Samedi 9 mars 2024 à 20h📍 Lieu : Espace cœur des vallées\, 2 Rue du Pré de Foire\, 74230 Thônes \nTarif adulte : 12€Tarif enfant (6 à 15 ans) : 8€🍔 Petite restauration sur place \n📧 Pour toutes informations supplémentaires\, n’hésitez pas à nous contacter : improtant74@gmail.com. \n🎙️ En partenariat avec ODS RADIO \nRejoignez-nous pour une soirée mémorable ! \n  \nRésa : https://www.helloasso.com/associations/l-improtant/evenements/match-d-impro-duel-au-sommet-l-improtant-vs-l-elite-alpine-d-improvisation \nDUEL AU SOMMET : Improtant vs All Star\n 
URL:https://limprotant.com/event/limprotant-all-star-1/
LOCATION:Théâtre de Thônes\, 2 Rue du Pré de Foire\, Thônes\, 74230
CATEGORIES:Match d'impro
END:VEVENT
END:VCALENDAR