BEGIN:VCALENDAR
VERSION:2.0
PRODID:-//L&#039;Improtant 74 - ECPv6.15.20//NONSGML v1.0//EN
CALSCALE:GREGORIAN
METHOD:PUBLISH
X-WR-CALNAME:L&#039;Improtant 74
X-ORIGINAL-URL:https://limprotant.com
X-WR-CALDESC:Évènements pour L&#039;Improtant 74
REFRESH-INTERVAL;VALUE=DURATION:PT1H
X-Robots-Tag:noindex
X-PUBLISHED-TTL:PT1H
BEGIN:VTIMEZONE
TZID:Europe/Helsinki
BEGIN:DAYLIGHT
TZOFFSETFROM:+0200
TZOFFSETTO:+0300
TZNAME:EEST
DTSTART:20230326T010000
END:DAYLIGHT
BEGIN:STANDARD
TZOFFSETFROM:+0300
TZOFFSETTO:+0200
TZNAME:EET
DTSTART:20231029T010000
END:STANDARD
BEGIN:DAYLIGHT
TZOFFSETFROM:+0200
TZOFFSETTO:+0300
TZNAME:EEST
DTSTART:20240331T010000
END:DAYLIGHT
BEGIN:STANDARD
TZOFFSETFROM:+0300
TZOFFSETTO:+0200
TZNAME:EET
DTSTART:20241027T010000
END:STANDARD
BEGIN:DAYLIGHT
TZOFFSETFROM:+0200
TZOFFSETTO:+0300
TZNAME:EEST
DTSTART:20250330T010000
END:DAYLIGHT
BEGIN:STANDARD
TZOFFSETFROM:+0300
TZOFFSETTO:+0200
TZNAME:EET
DTSTART:20251026T010000
END:STANDARD
END:VTIMEZONE
BEGIN:VEVENT
DTSTART;TZID=Europe/Helsinki:20240920T200000
DTEND;TZID=Europe/Helsinki:20240920T220000
DTSTAMP:20260420T112918
CREATED:20240923T212226Z
LAST-MODIFIED:20240923T212226Z
UID:627-1726862400-1726869600@limprotant.com
SUMMARY:ICC #5 à Lamy
DESCRIPTION:L’Improtant Catch Championship revient pour une cinquième édition à la salle Pierre Lamy ! \n 
URL:https://limprotant.com/event/icc-5-a-lamy/
LOCATION:Salle Pierre Lamy\, 12\, rue de la République\, Annecy\, 74000\, France
CATEGORIES:ICC
END:VEVENT
BEGIN:VEVENT
DTSTART;TZID=Europe/Helsinki:20240928T170000
DTEND;TZID=Europe/Helsinki:20240928T183000
DTSTAMP:20260420T112918
CREATED:20240923T210638Z
LAST-MODIFIED:20240923T212314Z
UID:620-1727542800-1727548200@limprotant.com
SUMMARY:L'Improtant au Parmelan #3
DESCRIPTION:L’Improtant remonte au Parmelan après les 2 très belles éditions de l’année dernière !
URL:https://limprotant.com/event/limprotant-au-parmelan-3/
LOCATION:Refuge du Parmelan\, @45.945057\, 6.2410691\, 74230 Dingy-Saint-Clair\, 74230\, France
CATEGORIES:Praticiper
END:VEVENT
END:VCALENDAR