BEGIN:VCALENDAR
VERSION:2.0
PRODID:-//L&#039;Improtant 74 - ECPv6.15.20//NONSGML v1.0//EN
CALSCALE:GREGORIAN
METHOD:PUBLISH
X-ORIGINAL-URL:https://limprotant.com
X-WR-CALDESC:Évènements pour L&#039;Improtant 74
REFRESH-INTERVAL;VALUE=DURATION:PT1H
X-Robots-Tag:noindex
X-PUBLISHED-TTL:PT1H
BEGIN:VTIMEZONE
TZID:UTC
BEGIN:STANDARD
TZOFFSETFROM:+0000
TZOFFSETTO:+0000
TZNAME:UTC
DTSTART:20220101T000000
END:STANDARD
END:VTIMEZONE
BEGIN:VEVENT
DTSTART;TZID=UTC:20231012T200000
DTEND;TZID=UTC:20231012T220000
DTSTAMP:20260420T073028
CREATED:20230806T135200Z
LAST-MODIFIED:20230807T144413Z
UID:273-1697140800-1697148000@limprotant.com
SUMMARY:Le laboratoire de l'Improtant #2
DESCRIPTION:Cette année\, l’Improtant vous propose un spectacle d’impro au Lake Pub de Sévrier tous les seconds jeudis du mois ! \nPour le mois d’octobre\, nous avons prévu un Laboratoire ! \n« Le laboratoire de l’Improtant » est un spectacle d’improvisation durant lequel nous testons des concepts d’impro en public jamais vu ni jamais fait auparavant\, après de nombreuses heures à les peaufiner et à les polir avec soin ! \nA raison d’en général un concept pas mi-temps\, laissez-vous surprendre par nos comédiens fous et funs ! » \n \nVenez nombreux\, ça va être ouf !!
URL:https://limprotant.com/event/le-laboratoire-de-limprotant/
LOCATION:Lake Pub Sévrier\, 160\, Chemin de la Scierie\, Sévrier\, 74320
CATEGORIES:Laboratoire,Nos spectacles !
END:VEVENT
END:VCALENDAR